BEGIN:VCALENDAR
PRODID:-//eluceo/ical//2.0/EN
VERSION:2.0
CALSCALE:GREGORIAN
BEGIN:VEVENT
UID:7cae5e1b7125ec26c0a3eeb09d3a8648
DTSTAMP:20260419T133654Z
SUMMARY:Stamm im Mekong
DESCRIPTION:
URL:https://rotaract-luzern.ch/bs/agenda/show/121688
DTSTART;TZID=Europe/Zurich:20190215T200000
DTEND;TZID=Europe/Zurich:20190215T200000
LOCATION:Pilatusstrasse 29\, 6003 Luzern
CATEGORIES:Rotaract
END:VEVENT
BEGIN:VTIMEZONE
TZID:Europe/Zurich
BEGIN:STANDARD
DTSTART:20190215T200000
TZNAME:CET
TZOFFSETTO:+0100
TZOFFSETFROM:+0100
END:STANDARD
END:VTIMEZONE
END:VCALENDAR
