BEGIN:VCALENDAR
PRODID:-//eluceo/ical//2.0/EN
VERSION:2.0
CALSCALE:GREGORIAN
BEGIN:VEVENT
UID:dcc7eaff66d1988a4b3aa5620d7c78ba
DTSTAMP:20260423T054206Z
SUMMARY:Rotary Lunch mit Dominique Gisin
DESCRIPTION:Web stranica: https://www.grandhotel-national.com/de/?gclid=Cj0
 KCQiA47GNBhDrARIsAKfZ2rA5tMu8_4pVih8KADQEm84MvoOseTzVHGMUm_ycKpr5t4GrZrANR
 goaAlqLEALw_wcB
URL:https://rotaract-luzern.ch/bs/agenda/show/135866
DTSTART;TZID=Europe/Zurich:20220315T121500
DTEND;TZID=Europe/Zurich:20220315T133000
LOCATION:Grand Hotel National\, Saal Ritz\, Haldenstrasse 4\, 6006 Luzern
CATEGORIES:Rotaract
END:VEVENT
BEGIN:VTIMEZONE
TZID:Europe/Zurich
BEGIN:STANDARD
DTSTART:20220315T121500
TZNAME:CET
TZOFFSETTO:+0100
TZOFFSETFROM:+0100
END:STANDARD
END:VTIMEZONE
END:VCALENDAR
