BEGIN:VCALENDAR
PRODID:-//eluceo/ical//2.0/EN
VERSION:2.0
CALSCALE:GREGORIAN
BEGIN:VEVENT
UID:fbdd8e68f34a5325602c8f1774e22f90
DTSTAMP:20260423T051752Z
SUMMARY:Osterbasteln bei der Rodtegg Stiftung
DESCRIPTION:Web stranica: https://rodtegg.ch/
URL:https://rotaract-luzern.ch/bs/agenda/show/135867
DTSTART;TZID=Europe/Zurich:20220407T180000
DTEND;TZID=Europe/Zurich:20220407T210000
LOCATION:Rodteggstrasse 3\, 6005 Luzern
CATEGORIES:Rotaract
END:VEVENT
BEGIN:VTIMEZONE
TZID:Europe/Zurich
BEGIN:DAYLIGHT
DTSTART:20220407T180000
TZNAME:CEST
TZOFFSETTO:+0200
TZOFFSETFROM:+0200
END:DAYLIGHT
END:VTIMEZONE
END:VCALENDAR
