BEGIN:VCALENDAR
PRODID:-//eluceo/ical//2.0/EN
VERSION:2.0
CALSCALE:GREGORIAN
BEGIN:VEVENT
UID:3ce1ea6fdf84ec950c569fedb87ae3a3
DTSTAMP:20260422T191551Z
SUMMARY:Der digitale Gips\, Rotary Lunch
DESCRIPTION:Web stranica: https://bellwaldtec.ch/\nGovornik(ci): Ralf Schum
 acher\, Gründer und Geschäftsführer der Bellwald TEC 
URL:https://rotaract-luzern.ch/bs/agenda/show/159799
DTSTART;TZID=Europe/Zurich:20230912T120000
DTEND;TZID=Europe/Zurich:20230912T133000
LOCATION:Hotel National\, Haldenstrasse 4\, 6006 Luzern
CATEGORIES:Rotaract
END:VEVENT
BEGIN:VTIMEZONE
TZID:Europe/Zurich
BEGIN:DAYLIGHT
DTSTART:20230912T120000
TZNAME:CEST
TZOFFSETTO:+0200
TZOFFSETFROM:+0200
END:DAYLIGHT
END:VTIMEZONE
END:VCALENDAR
