BEGIN:VCALENDAR
PRODID:-//eluceo/ical//2.0/EN
VERSION:2.0
CALSCALE:GREGORIAN
BEGIN:VEVENT
UID:47ceaf65e5a654230c06c6c2ebc7b2fe
DTSTAMP:20260422T205620Z
SUMMARY:SUP Center
DESCRIPTION:Web stranica: https://www.caribbean-village.ch/windsurf-schule/
 windsurfschule-sempachersee-since-1977-1
URL:https://rotaract-luzern.ch/bs/agenda/show/159819
DTSTART;TZID=Europe/Zurich:20230811T190000
DTEND;TZID=Europe/Zurich:20230811T220000
LOCATION:SUP Center\, Bahnhofstrasse 6\, 6207 Nottwil
CATEGORIES:Rotaract
END:VEVENT
BEGIN:VTIMEZONE
TZID:Europe/Zurich
BEGIN:DAYLIGHT
DTSTART:20230811T190000
TZNAME:CEST
TZOFFSETTO:+0200
TZOFFSETFROM:+0200
END:DAYLIGHT
END:VTIMEZONE
END:VCALENDAR
