BEGIN:VCALENDAR
PRODID:-//eluceo/ical//2.0/EN
VERSION:2.0
CALSCALE:GREGORIAN
BEGIN:VEVENT
UID:a1643108d480760727a1455e89ccf653
DTSTAMP:20260425T171630Z
SUMMARY:neues Datum!!! Stamm im jam jam
DESCRIPTION:Gemütlicher Abstecher ins mediterrane jam jam zum Brunchen! Es
  bitzeli Sommer im gruusig chalte Winter!
URL:https://rotaract-luzern.ch/de/agenda/show/120458
DTSTART;TZID=Europe/Zurich:20150201T093000
DTEND;TZID=Europe/Zurich:20150201T093000
LOCATION:HIRSCHENGRABEN 45/47 6003 LUZERN
CATEGORIES:Rotaract
END:VEVENT
BEGIN:VTIMEZONE
TZID:Europe/Zurich
BEGIN:STANDARD
DTSTART:20150201T093000
TZNAME:CET
TZOFFSETTO:+0100
TZOFFSETFROM:+0100
END:STANDARD
END:VTIMEZONE
END:VCALENDAR
