BEGIN:VCALENDAR
PRODID:-//eluceo/ical//2.0/EN
VERSION:2.0
CALSCALE:GREGORIAN
BEGIN:VEVENT
UID:71a5b61a7d38dde12f8a928d3dbca273
DTSTAMP:20260425T171335Z
SUMMARY:Achtung: Neuer Ort! Stamm im Mill'feuille
DESCRIPTION:Tausend Blätter\, tausend Facetten. So stellt sich das neue Mi
 ll'feuille am Mühlenplatz vor. Wir sind gespannt! \n\nwww.millfeuille.ch
  
URL:https://rotaract-luzern.ch/de/agenda/show/120460
DTSTART;TZID=Europe/Zurich:20150227T200000
DTEND;TZID=Europe/Zurich:20150227T200000
LOCATION:Mühlenplatz 6\, 6004 Luzern
CATEGORIES:Rotaract
END:VEVENT
BEGIN:VTIMEZONE
TZID:Europe/Zurich
BEGIN:STANDARD
DTSTART:20150227T200000
TZNAME:CET
TZOFFSETTO:+0100
TZOFFSETFROM:+0100
END:STANDARD
END:VTIMEZONE
END:VCALENDAR
