BEGIN:VCALENDAR
PRODID:-//eluceo/ical//2.0/EN
VERSION:2.0
CALSCALE:GREGORIAN
BEGIN:VEVENT
UID:3be3e4f41ed151c2447d8fa565e660ab
DTSTAMP:20260425T165334Z
SUMMARY:Unterirdisch überleben - Führung durch die Zivilschutzanlage Sonn
 enberg
DESCRIPTION:Wir werden Zeitzeugen des Kalten Krieges\, der Atomangst und de
 r Vorsorge! Wir machen einen zweistündigen Rundgang durch die Zivilschutz
 anlage Sonnenberg und Einblick in die Umsetzung des nationalen Zivilschutz
 konzeptes von 1971. \n\nIm Ernstfall hätte der Riesenbunker im Sonnenber
 g rund 20'000 Personen Schutz bieten sollen. Über die heutigen Tunneleinf
 ahrten der Autobahn A2 wäre die Menschenmasse in die beiden Röhren gesch
 leust worden.\n\nHeute kaum noch vorstellbar\, dieses Konzept umzusetzen. 
 Gehen wir dieser Sache auf den Grund - im wahrsten Sinne des Wortes! \n\n
 Bitte bringt passend CHF15.- mit. Vielen Dank!\n\nLageplan\nWebseite: http
 ://www.unterirdisch-ueberleben.ch
URL:https://rotaract-luzern.ch/de/agenda/show/120462
DTSTART;TZID=Europe/Zurich:20150613T134000
DTEND;TZID=Europe/Zurich:20150613T134000
LOCATION:Bus Nr. 10 Richtung Obergütsch\, Bushaltestelle Berglistrasse 
CATEGORIES:Rotaract
END:VEVENT
BEGIN:VTIMEZONE
TZID:Europe/Zurich
BEGIN:DAYLIGHT
DTSTART:20150613T134000
TZNAME:CEST
TZOFFSETTO:+0200
TZOFFSETFROM:+0200
END:DAYLIGHT
END:VTIMEZONE
END:VCALENDAR
