BEGIN:VCALENDAR
PRODID:-//eluceo/ical//2.0/EN
VERSION:2.0
CALSCALE:GREGORIAN
BEGIN:VEVENT
UID:40461823f8da366356ba7f57ae1e8f57
DTSTAMP:20260425T172253Z
SUMMARY:Rotary PETS
DESCRIPTION:Am Freitag\, 24. April 2015 sowie am Samstag\, 25.4.2015 findet
  das PETS im Kongresszentrum Allmend statt.\nDabei werden wir Rotary unter
 stützen\, v.a. beim Empfang und logistischen Arbeiten. Judith Lauber wür
 de sich sehr freuen\, wenn sie auf unsere Unterstützung zählen darf. Dab
 ei wird auch ein Projekt von Rotaract vorgestellt. Genauere Infos folgen n
 och.\nWebseite: http://www.rotary1980.ch/district/activities/agenda.php?id
 =40876
URL:https://rotaract-luzern.ch/de/agenda/show/120465
DTSTART;TZID=Europe/Zurich:20150424T000000
DTEND;TZID=Europe/Zurich:20150425T000000
LOCATION:Kongresszentrum Allmend\, Luzern
CATEGORIES:Rotaract
END:VEVENT
BEGIN:VTIMEZONE
TZID:Europe/Zurich
BEGIN:DAYLIGHT
DTSTART:20150424T000000
TZNAME:CEST
TZOFFSETTO:+0200
TZOFFSETFROM:+0200
END:DAYLIGHT
END:VTIMEZONE
END:VCALENDAR
