BEGIN:VCALENDAR
PRODID:-//eluceo/ical//2.0/EN
VERSION:2.0
CALSCALE:GREGORIAN
BEGIN:VEVENT
UID:5f1af3362a5424361e4cf18b12b4a7cb
DTSTAMP:20260423T184647Z
SUMMARY:Stamm am Weihnachtsmarkt
DESCRIPTION:
URL:https://rotaract-luzern.ch/de/agenda/show/143623
DTSTART;TZID=Europe/Zurich:20221214T180000
DTEND;TZID=Europe/Zurich:20221214T220000
LOCATION:Luzern
CATEGORIES:Rotaract
END:VEVENT
BEGIN:VTIMEZONE
TZID:Europe/Zurich
BEGIN:STANDARD
DTSTART:20221214T180000
TZNAME:CET
TZOFFSETTO:+0100
TZOFFSETFROM:+0100
END:STANDARD
END:VTIMEZONE
END:VCALENDAR
