BEGIN:VCALENDAR
PRODID:-//eluceo/ical//2.0/EN
VERSION:2.0
CALSCALE:GREGORIAN
BEGIN:VEVENT
UID:b33b56f514f8bb672334283f6a62a747
DTSTAMP:20260423T164910Z
SUMMARY:Stamm im Nordpol
DESCRIPTION:
URL:https://rotaract-luzern.ch/de/agenda/show/159816
DTSTART;TZID=Europe/Zurich:20230523T170000
DTEND;TZID=Europe/Zurich:20230523T210000
LOCATION:Nordpol\, 6015 Luzern
CATEGORIES:Rotaract
END:VEVENT
BEGIN:VTIMEZONE
TZID:Europe/Zurich
BEGIN:DAYLIGHT
DTSTART:20230523T170000
TZNAME:CEST
TZOFFSETTO:+0200
TZOFFSETFROM:+0200
END:DAYLIGHT
END:VTIMEZONE
END:VCALENDAR
