BEGIN:VCALENDAR
PRODID:-//eluceo/ical//2.0/EN
VERSION:2.0
CALSCALE:GREGORIAN
BEGIN:VEVENT
UID:3ebbd2fc32451ec633ea63f4eb85dd18
DTSTAMP:20260423T125748Z
SUMMARY:Jungrotarierinnen\, Rotaractorinnen\, Jungrotarier und Rotaractor T
 reffen
DESCRIPTION:
URL:https://rotaract-luzern.ch/de/agenda/show/160153
DTSTART;TZID=Europe/Zurich:20230905T173000
DTEND;TZID=Europe/Zurich:20230905T210000
LOCATION:Rathaus Brauerei\, Unter der Egg 2\, 6004 Luzern
CATEGORIES:Rotaract
END:VEVENT
BEGIN:VTIMEZONE
TZID:Europe/Zurich
BEGIN:DAYLIGHT
DTSTART:20230905T173000
TZNAME:CEST
TZOFFSETTO:+0200
TZOFFSETFROM:+0200
END:DAYLIGHT
END:VTIMEZONE
END:VCALENDAR
