BEGIN:VCALENDAR
PRODID:-//eluceo/ical//2.0/EN
VERSION:2.0
CALSCALE:GREGORIAN
BEGIN:VEVENT
UID:3a1728c40aaa28e8a7be0ed733b745ee
DTSTAMP:20260424T034542Z
SUMMARY:Stamm im The Lounge 
DESCRIPTION:Wenn das Bett das Herz des Hotels ist\, dann ist die Bar die Se
 ele. Jean Nouvel's Talent für bühnenreife Auftritte offenbart sich auch 
 hier. The Lounge ist der Treffpunkt Nummer 1! Ein moderner Fleck Luzerns\
 , den man einfach kennen muss!
URL:https://rotaract-luzern.ch/es/agenda/show/120461
DTSTART;TZID=Europe/Zurich:20150508T200000
DTEND;TZID=Europe/Zurich:20150508T200000
LOCATION:The Hotel\, Sempacherstrasse 14\, 6002 Luzern
CATEGORIES:Rotaract
END:VEVENT
BEGIN:VTIMEZONE
TZID:Europe/Zurich
BEGIN:DAYLIGHT
DTSTART:20150508T200000
TZNAME:CEST
TZOFFSETTO:+0200
TZOFFSETFROM:+0200
END:DAYLIGHT
END:VTIMEZONE
END:VCALENDAR
