BEGIN:VCALENDAR
PRODID:-//eluceo/ical//2.0/EN
VERSION:2.0
CALSCALE:GREGORIAN
BEGIN:VEVENT
UID:ed2e05e62641642ae1db4ea409b8fd81
DTSTAMP:20260425T032128Z
SUMMARY:Weihnachtsbasteln Stiftung Rodtegg
DESCRIPTION:Liebe Mitglieder\n\nAuch dieses Jahr findet der Sozialanlass in
  der Stiftung Rodtegg wieder statt und viele Kinder & Jugendliche freuen 
 sich schon heute auf uns. Auch dieses Jahr werden wir wieder mit den jung
 en Erwachsenen Basteln\, Mandarinen und Nüsse knabbern und uns gemeinsam 
 auf die schöne Weihnachtszeit einstimmen.\n\nWir würden uns freuen wenn
  Ihr zahlreich erscheint und mit uns die Kinder der Stiftung Rodtegg.\n\nG
 eniesst den November und bis im Dezember.\n\nLiebe Grüsse\n\nThomas Etie
 nne\nSitio web: http://www.rodtegg.ch
URL:https://rotaract-luzern.ch/es/agenda/show/120764
DTSTART;TZID=Europe/Zurich:20151203T190000
DTEND;TZID=Europe/Zurich:20151203T210000
LOCATION:Rotegg
CATEGORIES:Rotaract
END:VEVENT
BEGIN:VTIMEZONE
TZID:Europe/Zurich
BEGIN:STANDARD
DTSTART:20151203T190000
TZNAME:CET
TZOFFSETTO:+0100
TZOFFSETFROM:+0100
END:STANDARD
END:VTIMEZONE
END:VCALENDAR
