BEGIN:VCALENDAR
PRODID:-//eluceo/ical//2.0/EN
VERSION:2.0
CALSCALE:GREGORIAN
BEGIN:VEVENT
UID:e93229c449a41da6bd59c89e1fcb996d
DTSTAMP:20260423T230309Z
SUMMARY:REM Dublin
DESCRIPTION:Sitio web: https://remdublin2022.com
URL:https://rotaract-luzern.ch/es/agenda/show/144234
DTSTART;TZID=Europe/Zurich:20221020T080000
DTEND;TZID=Europe/Zurich:20221023T230000
LOCATION:Dublin
CATEGORIES:Rotaract
END:VEVENT
BEGIN:VTIMEZONE
TZID:Europe/Zurich
BEGIN:DAYLIGHT
DTSTART:20221020T080000
TZNAME:CEST
TZOFFSETTO:+0200
TZOFFSETFROM:+0200
END:DAYLIGHT
END:VTIMEZONE
END:VCALENDAR
