BEGIN:VCALENDAR
PRODID:-//eluceo/ical//2.0/EN
VERSION:2.0
CALSCALE:GREGORIAN
BEGIN:VEVENT
UID:efac2bd6d3b76cbf8d35471fedc2d2a8
DTSTAMP:20260425T175453Z
SUMMARY:FAIRführung durch Luzern
DESCRIPTION:Ein etwas anderer Stadtrundgang durch die Altstadt von Luzern\,
  der zu gerechtem und nachhaltigen Shoppen fairführt. \n\nWelchen Beitrag
  kann ich persönlich leisten\, um beim Handykauf existenzsichernde Löhne
  für die Menschen im Süden sicherzustellen? Wo kann ich nachhaltig pro
 duzierte Kleider einkaufen? Und wie kann ich zum Schutz der Regenwälder i
 n Kolumbien oder Indonesien beitragen? Auf diese und weitere Fragen gibt 
 «FAIRführung» anhand konkreter Beispiele eine Antwort.\n\nKosten: CHF 1
 5.- / CHF 10.- für Studierende\n\n\nNach dieser speziellen\, ca. 75 minü
 tigen Führung durch Luzern geniessen wir einen erfrischenden Drink und/od
 er ein sommerliches Znacht im Eichhof Garten an der Obergrundstrasse in Lu
 zern.\n\nWir freuen uns auf eure Teilnahme!\nSite internet: http://www.com
 undo.org/de/agenda/stadtrundgang_fairfuhrung/
URL:https://rotaract-luzern.ch/fr/agenda/show/120904
DTSTART;TZID=Europe/Zurich:20160604T163000
DTEND;TZID=Europe/Zurich:20160604T163000
LOCATION:Kapellplatz beim Fritischibrunnen\, Luzern
CATEGORIES:Rotaract
END:VEVENT
BEGIN:VTIMEZONE
TZID:Europe/Zurich
BEGIN:DAYLIGHT
DTSTART:20160604T163000
TZNAME:CEST
TZOFFSETTO:+0200
TZOFFSETFROM:+0200
END:DAYLIGHT
END:VTIMEZONE
END:VCALENDAR
