BEGIN:VCALENDAR
PRODID:-//eluceo/ical//2.0/EN
VERSION:2.0
CALSCALE:GREGORIAN
BEGIN:VEVENT
UID:045368df351824cccb06b2f6337f1eb8
DTSTAMP:20260424T065400Z
SUMMARY:Besuch im Bundeshaus
DESCRIPTION:
URL:https://rotaract-luzern.ch/fr/agenda/show/123617
DTSTART;TZID=Europe/Zurich:20210814T140000
DTEND;TZID=Europe/Zurich:20210814T210000
LOCATION:Bundeshaus Bern
CATEGORIES:Rotaract
END:VEVENT
BEGIN:VTIMEZONE
TZID:Europe/Zurich
BEGIN:DAYLIGHT
DTSTART:20210814T140000
TZNAME:CEST
TZOFFSETTO:+0200
TZOFFSETFROM:+0200
END:DAYLIGHT
END:VTIMEZONE
END:VCALENDAR
