BEGIN:VCALENDAR
PRODID:-//eluceo/ical//2.0/EN
VERSION:2.0
CALSCALE:GREGORIAN
BEGIN:VEVENT
UID:216a5865f24c7892dd21a27e1a7ff8bb
DTSTAMP:20260424T193400Z
SUMMARY:GV
DESCRIPTION:
URL:https://rotaract-luzern.ch/fr/agenda/show/123719
DTSTART;TZID=Europe/Zurich:20210612T163000
DTEND;TZID=Europe/Zurich:20210612T234500
LOCATION:Kulturhof hinter Musegg und online
CATEGORIES:Rotaract
END:VEVENT
BEGIN:VTIMEZONE
TZID:Europe/Zurich
BEGIN:DAYLIGHT
DTSTART:20210612T163000
TZNAME:CEST
TZOFFSETTO:+0200
TZOFFSETFROM:+0200
END:DAYLIGHT
END:VTIMEZONE
END:VCALENDAR
