BEGIN:VCALENDAR
PRODID:-//eluceo/ical//2.0/EN
VERSION:2.0
CALSCALE:GREGORIAN
BEGIN:VEVENT
UID:c5631eedcfcae5840c8044e664399a9f
DTSTAMP:20260424T164251Z
SUMMARY:RC-Brandheiss: Gesprächslunch
DESCRIPTION:
URL:https://rotaract-luzern.ch/fr/agenda/show/124877
DTSTART;TZID=Europe/Zurich:20210622T121500
DTEND;TZID=Europe/Zurich:20210622T140000
LOCATION:Grand Hotel National\, Luzern
CATEGORIES:Rotaract
END:VEVENT
BEGIN:VTIMEZONE
TZID:Europe/Zurich
BEGIN:DAYLIGHT
DTSTART:20210622T121500
TZNAME:CEST
TZOFFSETTO:+0200
TZOFFSETFROM:+0200
END:DAYLIGHT
END:VTIMEZONE
END:VCALENDAR
