BEGIN:VCALENDAR
PRODID:-//eluceo/ical//2.0/EN
VERSION:2.0
CALSCALE:GREGORIAN
BEGIN:VEVENT
UID:e13425ddab433cf69437e07979757853
DTSTAMP:20260421T193545Z
SUMMARY:Hands-On Projekt Plant for planet
DESCRIPTION:Site internet: https://a.plant-for-the-planet.org/de/
URL:https://rotaract-luzern.ch/fr/agenda/show/130237
DTSTART;TZID=Europe/Zurich:20220409T000000
DTEND;TZID=Europe/Zurich:20220409T230000
LOCATION:Region Seetal (genauer Standort folgt)
CATEGORIES:Rotaract
END:VEVENT
BEGIN:VTIMEZONE
TZID:Europe/Zurich
BEGIN:DAYLIGHT
DTSTART:20220409T000000
TZNAME:CEST
TZOFFSETTO:+0200
TZOFFSETFROM:+0200
END:DAYLIGHT
END:VTIMEZONE
END:VCALENDAR
