BEGIN:VCALENDAR
PRODID:-//eluceo/ical//2.0/EN
VERSION:2.0
CALSCALE:GREGORIAN
BEGIN:VEVENT
UID:d5a2ba903f6c3117a2211d3bb55ee4e4
DTSTAMP:20260424T081521Z
SUMMARY:Mini-GV in Engelberg
DESCRIPTION:
URL:https://rotaract-luzern.ch/fr/agenda/show/131216
DTSTART;TZID=Europe/Zurich:20220108T154500
DTEND;TZID=Europe/Zurich:20220108T234500
LOCATION:Engelberg
CATEGORIES:Rotaract
END:VEVENT
BEGIN:VTIMEZONE
TZID:Europe/Zurich
BEGIN:STANDARD
DTSTART:20220108T154500
TZNAME:CET
TZOFFSETTO:+0100
TZOFFSETFROM:+0100
END:STANDARD
END:VTIMEZONE
END:VCALENDAR
