BEGIN:VCALENDAR
PRODID:-//eluceo/ical//2.0/EN
VERSION:2.0
CALSCALE:GREGORIAN
BEGIN:VEVENT
UID:616fc349675037ae3c3370fb83f7f564
DTSTAMP:20260421T183858Z
SUMMARY:Stamm im Mr. Pickwick
DESCRIPTION:Site internet: https://www.pickwick.ch/en/home/
URL:https://rotaract-luzern.ch/fr/agenda/show/135876
DTSTART;TZID=Europe/Zurich:20220601T190000
DTEND;TZID=Europe/Zurich:20220601T210000
LOCATION:Rathausquai 6\, 6004 Luzern
CATEGORIES:Rotaract
END:VEVENT
BEGIN:VTIMEZONE
TZID:Europe/Zurich
BEGIN:DAYLIGHT
DTSTART:20220601T190000
TZNAME:CEST
TZOFFSETTO:+0200
TZOFFSETFROM:+0200
END:DAYLIGHT
END:VTIMEZONE
END:VCALENDAR
