BEGIN:VCALENDAR
PRODID:-//eluceo/ical//2.0/EN
VERSION:2.0
CALSCALE:GREGORIAN
BEGIN:VEVENT
UID:a6a60aed6cb4bcc1e7358a9448780f74
DTSTAMP:20260423T062539Z
SUMMARY:Besichtigung Straussenfarm
DESCRIPTION:Site internet: https://www.straussenfarm-sempachersee.ch
URL:https://rotaract-luzern.ch/fr/agenda/show/143497
DTSTART;TZID=Europe/Zurich:20220830T183000
DTEND;TZID=Europe/Zurich:20220830T220000
LOCATION:Straussenfarm Sempachersee\, Stockmatt 1A\, 6204 Sempach
CATEGORIES:Rotaract
END:VEVENT
BEGIN:VTIMEZONE
TZID:Europe/Zurich
BEGIN:DAYLIGHT
DTSTART:20220830T183000
TZNAME:CEST
TZOFFSETTO:+0200
TZOFFSETFROM:+0200
END:DAYLIGHT
END:VTIMEZONE
END:VCALENDAR
