BEGIN:VCALENDAR
PRODID:-//eluceo/ical//2.0/EN
VERSION:2.0
CALSCALE:GREGORIAN
BEGIN:VEVENT
UID:27f1f6fe53c48556b7f60167536a5c15
DTSTAMP:20260421T175255Z
SUMMARY:Rotary Präsenz-Stamm
DESCRIPTION:
URL:https://rotaract-luzern.ch/is/agenda/show/131212
DTSTART;TZID=Europe/Zurich:20210907T173000
DTEND;TZID=Europe/Zurich:20210907T203000
LOCATION:Restaurant Rathaus Brauerei
CATEGORIES:Rotaract
END:VEVENT
BEGIN:VTIMEZONE
TZID:Europe/Zurich
BEGIN:DAYLIGHT
DTSTART:20210907T173000
TZNAME:CEST
TZOFFSETTO:+0200
TZOFFSETFROM:+0200
END:DAYLIGHT
END:VTIMEZONE
END:VCALENDAR
