BEGIN:VCALENDAR
PRODID:-//eluceo/ical//2.0/EN
VERSION:2.0
CALSCALE:GREGORIAN
BEGIN:VEVENT
UID:ba26fe75b9bfda7ba7808e218f93d387
DTSTAMP:20260421T190453Z
SUMMARY:Stamm am Rudolfs Weihnacht
DESCRIPTION:Vefsíða: https://www.rudolfs.ch/
URL:https://rotaract-luzern.ch/is/agenda/show/135727
DTSTART;TZID=Europe/Zurich:20211209T190000
DTEND;TZID=Europe/Zurich:20211209T210000
LOCATION:Werftsteg\, 6005 Luzern
CATEGORIES:Rotaract
END:VEVENT
BEGIN:VTIMEZONE
TZID:Europe/Zurich
BEGIN:STANDARD
DTSTART:20211209T190000
TZNAME:CET
TZOFFSETTO:+0100
TZOFFSETFROM:+0100
END:STANDARD
END:VTIMEZONE
END:VCALENDAR
