BEGIN:VCALENDAR
PRODID:-//eluceo/ical//2.0/EN
VERSION:2.0
CALSCALE:GREGORIAN
BEGIN:VEVENT
UID:4858e89ae259878fbcc1f39ce43fbbc4
DTSTAMP:20260420T061009Z
SUMMARY:Stamm in der Braui
DESCRIPTION:Vefsíða: https://www.rathausbrauerei.ch/
URL:https://rotaract-luzern.ch/is/agenda/show/153095
DTSTART;TZID=Europe/Zurich:20230130T180000
DTEND;TZID=Europe/Zurich:20230130T210000
LOCATION:Rathaus Braui
CATEGORIES:Rotaract
END:VEVENT
BEGIN:VTIMEZONE
TZID:Europe/Zurich
BEGIN:STANDARD
DTSTART:20230130T180000
TZNAME:CET
TZOFFSETTO:+0100
TZOFFSETFROM:+0100
END:STANDARD
END:VTIMEZONE
END:VCALENDAR
