BEGIN:VCALENDAR
PRODID:-//eluceo/ical//2.0/EN
VERSION:2.0
CALSCALE:GREGORIAN
BEGIN:VEVENT
UID:ea7e92fb0de0a53123f7866cf615cc2d
DTSTAMP:20260421T221435Z
SUMMARY:Rega-Center Zürich
DESCRIPTION:Vefsíða: https://www.rega.ch/im-einsatz/standorte-infrastrukt
 ur/rega-center
URL:https://rotaract-luzern.ch/is/agenda/show/159795
DTSTART;TZID=Europe/Zurich:20231014T120000
DTEND;TZID=Europe/Zurich:20231014T140000
LOCATION:Rega-Center (Roter Eingang)\, Bimenzältenstrasse 87\, 8058 Züric
 h-Flughafen
CATEGORIES:Rotaract
END:VEVENT
BEGIN:VTIMEZONE
TZID:Europe/Zurich
BEGIN:DAYLIGHT
DTSTART:20231014T120000
TZNAME:CEST
TZOFFSETTO:+0200
TZOFFSETFROM:+0200
END:DAYLIGHT
END:VTIMEZONE
END:VCALENDAR
