BEGIN:VCALENDAR
PRODID:-//eluceo/ical//2.0/EN
VERSION:2.0
CALSCALE:GREGORIAN
BEGIN:VEVENT
UID:70ba5938ddd15860cbb0f3db9efc0f74
DTSTAMP:20260419T210112Z
SUMMARY:Mini-GV mit Brunch
DESCRIPTION:
URL:https://rotaract-luzern.ch/is/agenda/show/159814
DTSTART;TZID=Europe/Zurich:20240113T100000
DTEND;TZID=Europe/Zurich:20240113T140000
LOCATION:Industriestrasse 46\, 6034 Inwil
CATEGORIES:Rotaract
END:VEVENT
BEGIN:VTIMEZONE
TZID:Europe/Zurich
BEGIN:STANDARD
DTSTART:20240113T100000
TZNAME:CET
TZOFFSETTO:+0100
TZOFFSETFROM:+0100
END:STANDARD
END:VTIMEZONE
END:VCALENDAR
