BEGIN:VCALENDAR
PRODID:-//eluceo/ical//2.0/EN
VERSION:2.0
CALSCALE:GREGORIAN
BEGIN:VEVENT
UID:515df65352322dc64fee438717f3642f
DTSTAMP:20260419T234645Z
SUMMARY:Distriktanlass im Verkehrshaus
DESCRIPTION:Vefsíða: https://www.verkehrshaus.ch/startseite.html
URL:https://rotaract-luzern.ch/is/agenda/show/169134
DTSTART;TZID=Europe/Zurich:20231118T140000
DTEND;TZID=Europe/Zurich:20231118T220000
LOCATION:Verkehrshaus der Schweiz\, Haldenstrasse 44\, 6006 Luzern
CATEGORIES:Rotaract
END:VEVENT
BEGIN:VTIMEZONE
TZID:Europe/Zurich
BEGIN:STANDARD
DTSTART:20231118T140000
TZNAME:CET
TZOFFSETTO:+0100
TZOFFSETFROM:+0100
END:STANDARD
END:VTIMEZONE
END:VCALENDAR
