BEGIN:VCALENDAR
PRODID:-//eluceo/ical//2.0/EN
VERSION:2.0
CALSCALE:GREGORIAN
BEGIN:VEVENT
UID:c8baa2bc13e9402fe82d6239df6ac5ae
DTSTAMP:20260421T220617Z
SUMMARY:JUBILÄUMSANLASS 100 JAHRE ROTARY SCHWEIZ-LIECHTENSTEIN
DESCRIPTION:Vefsíða: https://100years.rotary.ch/de/agenda/show/166992?ce=
 1
URL:https://rotaract-luzern.ch/is/agenda/show/169136
DTSTART;TZID=Europe/Zurich:20240622T103000
DTEND;TZID=Europe/Zurich:20240622T235500
LOCATION:Kursaal Bern\, Kornhausstrasse 3\, 3013 Bern
CATEGORIES:Rotaract
END:VEVENT
BEGIN:VTIMEZONE
TZID:Europe/Zurich
BEGIN:DAYLIGHT
DTSTART:20240622T103000
TZNAME:CEST
TZOFFSETTO:+0200
TZOFFSETFROM:+0200
END:DAYLIGHT
END:VTIMEZONE
END:VCALENDAR
