BEGIN:VCALENDAR
PRODID:-//eluceo/ical//2.0/EN
VERSION:2.0
CALSCALE:GREGORIAN
BEGIN:VEVENT
UID:1016fe8b3102d7561bdc6b201b0b1493
DTSTAMP:20260421T093208Z
SUMMARY:Save the date: Run for Water Survival Box
DESCRIPTION:Vefsíða: https://watersurvivalbox.ch/run4water/
URL:https://rotaract-luzern.ch/is/agenda/show/189436
DTSTART;TZID=Europe/Zurich:20250503T000000
DTEND;TZID=Europe/Zurich:20250503T220000
LOCATION:Luzern
CATEGORIES:Rotaract
END:VEVENT
BEGIN:VTIMEZONE
TZID:Europe/Zurich
BEGIN:DAYLIGHT
DTSTART:20250503T000000
TZNAME:CEST
TZOFFSETTO:+0200
TZOFFSETFROM:+0200
END:DAYLIGHT
END:VTIMEZONE
END:VCALENDAR
