BEGIN:VCALENDAR
PRODID:-//eluceo/ical//2.0/EN
VERSION:2.0
CALSCALE:GREGORIAN
BEGIN:VEVENT
UID:86c2a851923affc035c2df445e8d0422
DTSTAMP:20260419T135916Z
SUMMARY:Find the Code Solothurn mit RAC Solothurn
DESCRIPTION:
URL:https://rotaract-luzern.ch/is/agenda/show/189439
DTSTART;TZID=Europe/Zurich:20250517T140000
DTEND;TZID=Europe/Zurich:20250517T160000
LOCATION:Solothrun Hauptbahnhof
CATEGORIES:Rotaract
END:VEVENT
BEGIN:VTIMEZONE
TZID:Europe/Zurich
BEGIN:DAYLIGHT
DTSTART:20250517T140000
TZNAME:CEST
TZOFFSETTO:+0200
TZOFFSETFROM:+0200
END:DAYLIGHT
END:VTIMEZONE
END:VCALENDAR
