BEGIN:VCALENDAR
PRODID:-//eluceo/ical//2.0/EN
VERSION:2.0
CALSCALE:GREGORIAN
BEGIN:VEVENT
UID:bd4752976167caf87bacc08f9841f017
DTSTAMP:20260421T141244Z
SUMMARY:HANDS ON-Biodiversitäts-und Umwelttag am Rotsee
DESCRIPTION:Vefsíða: https://www.hof-vogelsang.ch/
URL:https://rotaract-luzern.ch/is/agenda/show/211466
DTSTART;TZID=Europe/Zurich:20260530T093000
DTEND;TZID=Europe/Zurich:20260530T153000
LOCATION:Hof Vogelsang\, Vogelsang 4\, 6030 Ebikon
CATEGORIES:Rotaract
END:VEVENT
BEGIN:VTIMEZONE
TZID:Europe/Zurich
BEGIN:DAYLIGHT
DTSTART:20260530T093000
TZNAME:CEST
TZOFFSETTO:+0200
TZOFFSETFROM:+0200
END:DAYLIGHT
END:VTIMEZONE
END:VCALENDAR
