BEGIN:VCALENDAR
PRODID:-//eluceo/ical//2.0/EN
VERSION:2.0
CALSCALE:GREGORIAN
BEGIN:VEVENT
UID:a6cc47abf227635d8f412c1e3001777f
DTSTAMP:20260423T040356Z
SUMMARY:RYLA
DESCRIPTION:
URL:https://rotaract-luzern.ch/nl/agenda/show/123011
DTSTART;TZID=Europe/Zurich:20210924T000000
DTEND;TZID=Europe/Zurich:20210926T200000
LOCATION:Folgt
CATEGORIES:Rotaract
END:VEVENT
BEGIN:VTIMEZONE
TZID:Europe/Zurich
BEGIN:DAYLIGHT
DTSTART:20210924T000000
TZNAME:CEST
TZOFFSETTO:+0200
TZOFFSETFROM:+0200
END:DAYLIGHT
END:VTIMEZONE
END:VCALENDAR
