BEGIN:VCALENDAR
PRODID:-//eluceo/ical//2.0/EN
VERSION:2.0
CALSCALE:GREGORIAN
BEGIN:VEVENT
UID:fc7542096cc38862773a10a7a520dd36
DTSTAMP:20260423T024020Z
SUMMARY:Open Air Kino
DESCRIPTION:Website: https://www.open-air-kino.ch/pages/de/kinos/luzern.php
URL:https://rotaract-luzern.ch/nl/agenda/show/128336
DTSTART;TZID=Europe/Zurich:20210804T211500
DTEND;TZID=Europe/Zurich:20210805T000000
LOCATION:Aula Alpenquai
CATEGORIES:Rotaract
END:VEVENT
BEGIN:VTIMEZONE
TZID:Europe/Zurich
BEGIN:DAYLIGHT
DTSTART:20210804T211500
TZNAME:CEST
TZOFFSETTO:+0200
TZOFFSETFROM:+0200
END:DAYLIGHT
END:VTIMEZONE
END:VCALENDAR
