BEGIN:VCALENDAR
PRODID:-//eluceo/ical//2.0/EN
VERSION:2.0
CALSCALE:GREGORIAN
BEGIN:VEVENT
UID:1aed208c25e36368a8f1dfcc3a759d72
DTSTAMP:20260422T222705Z
SUMMARY:Stadtlauf Luzern
DESCRIPTION:Website: https://www.luzernerstadtlauf.ch
URL:https://rotaract-luzern.ch/nl/agenda/show/144236
DTSTART;TZID=Europe/Zurich:20230429T080000
DTEND;TZID=Europe/Zurich:20230429T180000
LOCATION:Luzern
CATEGORIES:Rotaract
END:VEVENT
BEGIN:VTIMEZONE
TZID:Europe/Zurich
BEGIN:DAYLIGHT
DTSTART:20230429T080000
TZNAME:CEST
TZOFFSETTO:+0200
TZOFFSETFROM:+0200
END:DAYLIGHT
END:VTIMEZONE
END:VCALENDAR
