BEGIN:VCALENDAR
PRODID:-//eluceo/ical//2.0/EN
VERSION:2.0
CALSCALE:GREGORIAN
BEGIN:VEVENT
UID:e9507f449129165efb86c1ed2a4d276b
DTSTAMP:20260422T190957Z
SUMMARY:Schiff Ahoi!
DESCRIPTION:Website: https://www.bremgarten-tourismus.ch/de/freizeit/wasser
 sport/reuss
URL:https://rotaract-luzern.ch/nl/agenda/show/178692
DTSTART;TZID=Europe/Zurich:20240803T083000
DTEND;TZID=Europe/Zurich:20240803T160000
LOCATION:Gisikon Root\, hinter dem Gasthaus Tell
CATEGORIES:Rotaract
END:VEVENT
BEGIN:VTIMEZONE
TZID:Europe/Zurich
BEGIN:DAYLIGHT
DTSTART:20240803T083000
TZNAME:CEST
TZOFFSETTO:+0200
TZOFFSETFROM:+0200
END:DAYLIGHT
END:VTIMEZONE
END:VCALENDAR
