BEGIN:VCALENDAR
PRODID:-//eluceo/ical//2.0/EN
VERSION:2.0
CALSCALE:GREGORIAN
BEGIN:VEVENT
UID:661e42f43583f2240ed894683bf2ba3c
DTSTAMP:20260422T190852Z
SUMMARY:Gemütlichen Grillabend mit JUBLA Philippinen
DESCRIPTION:
URL:https://rotaract-luzern.ch/nl/agenda/show/179499
DTSTART;TZID=Europe/Zurich:20240727T190000
DTEND;TZID=Europe/Zurich:20240727T220000
LOCATION:Horw
CATEGORIES:Rotaract
END:VEVENT
BEGIN:VTIMEZONE
TZID:Europe/Zurich
BEGIN:DAYLIGHT
DTSTART:20240727T190000
TZNAME:CEST
TZOFFSETTO:+0200
TZOFFSETFROM:+0200
END:DAYLIGHT
END:VTIMEZONE
END:VCALENDAR
