BEGIN:VCALENDAR
PRODID:-//eluceo/ical//2.0/EN
VERSION:2.0
CALSCALE:GREGORIAN
BEGIN:VEVENT
UID:047b2fb30cf5b538b6bdb7897d12c83d
DTSTAMP:20260424T112012Z
SUMMARY:Stamm in der Rathaus Brauerei mit Rotary und RYLA Teilnehmer/-innen
DESCRIPTION:
URL:https://rotaract-luzern.ch/nl/agenda/show/192691
DTSTART;TZID=Europe/Zurich:20250603T173000
DTEND;TZID=Europe/Zurich:20250603T203000
LOCATION:Rathaus Brauerei\, Unter der Egg 2\, 6004 Luzern
CATEGORIES:Rotaract
END:VEVENT
BEGIN:VTIMEZONE
TZID:Europe/Zurich
BEGIN:DAYLIGHT
DTSTART:20250603T173000
TZNAME:CEST
TZOFFSETTO:+0200
TZOFFSETFROM:+0200
END:DAYLIGHT
END:VTIMEZONE
END:VCALENDAR
