BEGIN:VCALENDAR
PRODID:-//eluceo/ical//2.0/EN
VERSION:2.0
CALSCALE:GREGORIAN
BEGIN:VEVENT
UID:4eee69e399e3d066e32b9b8860ef59cc
DTSTAMP:20260422T210902Z
SUMMARY:Bergsäuberungsaktion
DESCRIPTION:Website: https://www.meiringen-hasliberg.ch/de/Sommer/Events/Be
 rgsauberung
URL:https://rotaract-luzern.ch/nl/agenda/show/194947
DTSTART;TZID=Europe/Zurich:20250614T083000
DTEND;TZID=Europe/Zurich:20250614T083000
LOCATION:Station Reuti\, Hasliberg
CATEGORIES:Rotaract
END:VEVENT
BEGIN:VTIMEZONE
TZID:Europe/Zurich
BEGIN:DAYLIGHT
DTSTART:20250614T083000
TZNAME:CEST
TZOFFSETTO:+0200
TZOFFSETFROM:+0200
END:DAYLIGHT
END:VTIMEZONE
END:VCALENDAR
