BEGIN:VCALENDAR
PRODID:-//eluceo/ical//2.0/EN
VERSION:2.0
CALSCALE:GREGORIAN
BEGIN:VEVENT
UID:86d8acf95c8c3d456f3913624118a271
DTSTAMP:20260424T172855Z
SUMMARY:Besuch Segelflugplatz Olten (mit RAC Bern)
DESCRIPTION:Website: https://www.sgolten.ch/
URL:https://rotaract-luzern.ch/nl/agenda/show/201204
DTSTART;TZID=Europe/Zurich:20250921T100000
DTEND;TZID=Europe/Zurich:20250921T170000
LOCATION:Flugplatz Olten\, Gheidweg\, 4600 Olten
CATEGORIES:Rotaract
END:VEVENT
BEGIN:VTIMEZONE
TZID:Europe/Zurich
BEGIN:DAYLIGHT
DTSTART:20250921T100000
TZNAME:CEST
TZOFFSETTO:+0200
TZOFFSETFROM:+0200
END:DAYLIGHT
END:VTIMEZONE
END:VCALENDAR
