BEGIN:VCALENDAR
PRODID:-//eluceo/ical//2.0/EN
VERSION:2.0
CALSCALE:GREGORIAN
BEGIN:VEVENT
UID:771f9dfb4121a62a11b856debbcb1f26
DTSTAMP:20260422T141900Z
SUMMARY:Gemeinsam gegen Kinderlähmung - Benefizkonzert << Sinfonie in Bild
 ern >> und VIP Apéro im KKL Luzern
DESCRIPTION:Website: https://www.kkl-luzern.ch/events/sinfonie-in-bildern\n
 Sprekers: 
URL:https://rotaract-luzern.ch/nl/agenda/show/201455
DTSTART;TZID=Europe/Zurich:20251026T150000
DTEND;TZID=Europe/Zurich:20251026T200000
LOCATION:KKL Luzern\, Europapl. 1\, 6005 Luzern
CATEGORIES:Rotaract
END:VEVENT
BEGIN:VTIMEZONE
TZID:Europe/Zurich
BEGIN:STANDARD
DTSTART:20251026T150000
TZNAME:CET
TZOFFSETTO:+0100
TZOFFSETFROM:+0100
END:STANDARD
END:VTIMEZONE
END:VCALENDAR
