BEGIN:VCALENDAR
PRODID:-//eluceo/ical//2.0/EN
VERSION:2.0
CALSCALE:GREGORIAN
BEGIN:VEVENT
UID:ca71f393365e1e5d996118dbadb8cc50
DTSTAMP:20260422T141733Z
SUMMARY:District Event 2025 - WINE TRAIL
DESCRIPTION:
URL:https://rotaract-luzern.ch/nl/agenda/show/202966
DTSTART;TZID=Europe/Zurich:20251012T140000
DTEND;TZID=Europe/Zurich:20251012T180000
LOCATION:Fischer Weine\, Bahnhofplatz 7\, 6210 Sursee
CATEGORIES:Rotaract
END:VEVENT
BEGIN:VTIMEZONE
TZID:Europe/Zurich
BEGIN:DAYLIGHT
DTSTART:20251012T140000
TZNAME:CEST
TZOFFSETTO:+0200
TZOFFSETFROM:+0200
END:DAYLIGHT
END:VTIMEZONE
END:VCALENDAR
