BEGIN:VCALENDAR
PRODID:-//eluceo/ical//2.0/EN
VERSION:2.0
CALSCALE:GREGORIAN
BEGIN:VEVENT
UID:c927a9a9d1077f8ffcdd03d03b9240c9
DTSTAMP:20260422T165823Z
SUMMARY:RAC Luzern schwingt sich aufs Velo
DESCRIPTION:Um das hoffentlich gute Wetter im Sommer zu nutzen\, machen wir
  eine Velo Tour mit Mittagessen.\n\nWir fahren mit dem Velo von Luzern an 
 der Reuss entlang richtung Emmen und von dort weiter nach Ebikon\, wo wir 
 im Gasthaus Trumpf Buur eine Pause zum Mittagessen einlegen werden (Infos)
 . Nach der Stärkung geht es weiter am Rotsee entlang Richtung Luzern.\nWe
 bbplats: http://www.luzern.com/de/radtouren/velorouten/veloroute-3
URL:https://rotaract-luzern.ch/sv/agenda/show/120911
DTSTART;TZID=Europe/Zurich:20160821T100000
DTEND;TZID=Europe/Zurich:20160821T140000
LOCATION:Luzern HB
CATEGORIES:Rotaract
END:VEVENT
BEGIN:VTIMEZONE
TZID:Europe/Zurich
BEGIN:DAYLIGHT
DTSTART:20160821T100000
TZNAME:CEST
TZOFFSETTO:+0200
TZOFFSETFROM:+0200
END:DAYLIGHT
END:VTIMEZONE
END:VCALENDAR
