BEGIN:VCALENDAR
PRODID:-//eluceo/ical//2.0/EN
VERSION:2.0
CALSCALE:GREGORIAN
BEGIN:VEVENT
UID:5f91c8e93a056cd10346086278ab3f00
DTSTAMP:20260422T130040Z
SUMMARY:Die Margaritha ruft! Bringt euren Sombrero mit!
DESCRIPTION:Im Restaurant Pacifico treffen wir uns auf eine gemütliche Cer
 veza oder Margharita. Im mexikanischen Ambiente lassen wir die Arbeitswoch
 e ausklingen und feiern ins Wochenende hinein. Mal sehen wohin es uns dann
  noch führt!\n\nQuestions? Call 076 470 7 470\nWebbplats: http://www.paci
 fico-luzern.ch/
URL:https://rotaract-luzern.ch/sv/agenda/show/121035
DTSTART;TZID=Europe/Zurich:20160930T200000
DTEND;TZID=Europe/Zurich:20160930T200000
LOCATION:Restaurant Pacifico Luzern\, Pilatusstrasse 15\, 6002 Luzern 
CATEGORIES:Rotaract
END:VEVENT
BEGIN:VTIMEZONE
TZID:Europe/Zurich
BEGIN:DAYLIGHT
DTSTART:20160930T200000
TZNAME:CEST
TZOFFSETTO:+0200
TZOFFSETFROM:+0200
END:DAYLIGHT
END:VTIMEZONE
END:VCALENDAR
