BEGIN:VCALENDAR
PRODID:-//eluceo/ical//2.0/EN
VERSION:2.0
CALSCALE:GREGORIAN
BEGIN:VEVENT
UID:25eb6e1013fa569c264a19e7bb165968
DTSTAMP:20260420T131314Z
SUMMARY:Stamm im Restaurant "The Mexican"
DESCRIPTION:
URL:https://rotaract-luzern.ch/sv/agenda/show/121599
DTSTART;TZID=Europe/Zurich:20181026T200000
DTEND;TZID=Europe/Zurich:20181026T200000
LOCATION:Frankenstrasse 2\, 6003 Luzern
CATEGORIES:Rotaract
END:VEVENT
BEGIN:VTIMEZONE
TZID:Europe/Zurich
BEGIN:DAYLIGHT
DTSTART:20181026T200000
TZNAME:CEST
TZOFFSETTO:+0200
TZOFFSETFROM:+0200
END:DAYLIGHT
END:VTIMEZONE
END:VCALENDAR
