BEGIN:VCALENDAR
PRODID:-//eluceo/ical//2.0/EN
VERSION:2.0
CALSCALE:GREGORIAN
BEGIN:VEVENT
UID:2a137005ca69f66b07e47bbb04cfc916
DTSTAMP:20260419T115023Z
SUMMARY:Stamm im Bolero
DESCRIPTION:Webbplats: https://www.bolero-luzern.ch/
URL:https://rotaract-luzern.ch/sv/agenda/show/135862
DTSTART;TZID=Europe/Zurich:20220202T183000
DTEND;TZID=Europe/Zurich:20220202T210000
LOCATION:Bundesplatz 18\, 6003 Luzern
CATEGORIES:Rotaract
END:VEVENT
BEGIN:VTIMEZONE
TZID:Europe/Zurich
BEGIN:STANDARD
DTSTART:20220202T183000
TZNAME:CET
TZOFFSETTO:+0100
TZOFFSETFROM:+0100
END:STANDARD
END:VTIMEZONE
END:VCALENDAR
