BEGIN:VCALENDAR
PRODID:-//eluceo/ical//2.0/EN
VERSION:2.0
CALSCALE:GREGORIAN
BEGIN:VEVENT
UID:e619fa3e45fc4f7044e3b7d3e0491a2f
DTSTAMP:20260423T211618Z
SUMMARY:Spieleabend im Allenwindenturm
DESCRIPTION:
URL:https://rotaract-luzern.ch/sv/agenda/show/159805
DTSTART;TZID=Europe/Zurich:20231104T173000
DTEND;TZID=Europe/Zurich:20231104T213000
LOCATION:Allenwindenturm\, Brambergstrasse\, 6004 Luzern
CATEGORIES:Rotaract
END:VEVENT
BEGIN:VTIMEZONE
TZID:Europe/Zurich
BEGIN:STANDARD
DTSTART:20231104T173000
TZNAME:CET
TZOFFSETTO:+0100
TZOFFSETFROM:+0100
END:STANDARD
END:VTIMEZONE
END:VCALENDAR
