BEGIN:VCALENDAR
PRODID:-//eluceo/ical//2.0/EN
VERSION:2.0
CALSCALE:GREGORIAN
BEGIN:VEVENT
UID:d7934277a7013468b1cd1653eccb2b53
DTSTAMP:20260424T092543Z
SUMMARY:Stamm am Rudolfs Weihnacht
DESCRIPTION:Webbplats: https://www.rudolfs.ch/
URL:https://rotaract-luzern.ch/sv/agenda/show/206274
DTSTART;TZID=Europe/Zurich:20251212T183000
DTEND;TZID=Europe/Zurich:20251212T213000
LOCATION:Rudolfs Weihnacht\, Inseliquai\, 6005 Luzern
CATEGORIES:Rotaract
END:VEVENT
BEGIN:VTIMEZONE
TZID:Europe/Zurich
BEGIN:STANDARD
DTSTART:20251212T183000
TZNAME:CET
TZOFFSETTO:+0100
TZOFFSETFROM:+0100
END:STANDARD
END:VTIMEZONE
END:VCALENDAR
